BEGIN:VCALENDAR
VERSION:2.0
PRODID:-//Celebrating 200 years of Catholic Education in Australia - ECPv5.2.1//NONSGML v1.0//EN
CALSCALE:GREGORIAN
METHOD:PUBLISH
X-WR-CALNAME:Celebrating 200 years of Catholic Education in Australia
X-ORIGINAL-URL:https://200years.catholic.edu.au
X-WR-CALDESC:Events for Celebrating 200 years of Catholic Education in Australia
BEGIN:VTIMEZONE
TZID:UTC
BEGIN:STANDARD
TZOFFSETFROM:+0000
TZOFFSETTO:+0000
TZNAME:UTC
DTSTART:20210101T000000
END:STANDARD
END:VTIMEZONE
BEGIN:VEVENT
DTSTART;VALUE=DATE:20210301
DTEND;VALUE=DATE:20210308
DTSTAMP:20210227T013839
CREATED:20210218T065537Z
LAST-MODIFIED:20210218T065537Z
UID:1657-1614556800-1615161599@200years.catholic.edu.au
SUMMARY:200 Years of Catholic Education events- Diocese of Wollongong
DESCRIPTION:During Catholic Schools Week (1 – 7 March)\, Catholic Education Diocese of Wollongong will officially launch its 200 year celebrations with school liturgies\, historic games and learning activities. Parents\, carers and school communities will be invited to join the celebrations in a COVID-safe way. Photo: Catholic Education Diocese of Wollongong.
URL:https://200years.catholic.edu.au/event/200-years-of-catholic-education-events-diocese-of-wollongong/
CATEGORIES:New South Wales
ATTACH;FMTTYPE=image/jpeg:https://200years.catholic.edu.au/wp-content/uploads/2021/02/CAMPBELLTOWN_EDIT-DOW.jpg
ORGANIZER;CN="Catholic%20Education%20Office%20Diocese%20of%20Wollongong":MAILTO:info@dow.catholic.edu.au
END:VEVENT
END:VCALENDAR