BEGIN:VCALENDAR
VERSION:2.0
PRODID:-//Celebrating 200 years of Catholic Education in Australia - ECPv5.2.1//NONSGML v1.0//EN
CALSCALE:GREGORIAN
METHOD:PUBLISH
X-WR-CALNAME:Celebrating 200 years of Catholic Education in Australia
X-ORIGINAL-URL:https://200years.catholic.edu.au
X-WR-CALDESC:Events for Celebrating 200 years of Catholic Education in Australia
BEGIN:VTIMEZONE
TZID:UTC
BEGIN:STANDARD
TZOFFSETFROM:+0000
TZOFFSETTO:+0000
TZNAME:UTC
DTSTART:20210101T000000
END:STANDARD
END:VTIMEZONE
BEGIN:VEVENT
DTSTART;TZID=UTC:20210212T133000
DTEND;TZID=UTC:20210212T150000
DTSTAMP:20210227T010614
CREATED:20210211T063559Z
LAST-MODIFIED:20210211T063559Z
UID:1505-1613136600-1613142000@200years.catholic.edu.au
SUMMARY:200 Years of Catholic Education launch event - Archdiocese of Hobart
DESCRIPTION:On 12 February the Archdiocese of Hobart will host a launch at St John’s Catholic School\, Richmond. Archbishop Julian Porteous will formally launch the 200 Years celebrations following a student-led prayer ritual\, followed by afternoon tea and a viewing of the school\, Tasmania’s oldest\, extant Catholic school. Photo: Catholic Education Tasmania.
URL:https://200years.catholic.edu.au/event/200-years-of-catholic-education-launch-event-archdiocese-of-hobart/
LOCATION:St John’s Catholic School\, St Johns Cir\, Richmond\, TAS\, 7025\, Australia
CATEGORIES:Tasmania
ATTACH;FMTTYPE=image/jpeg:https://200years.catholic.edu.au/wp-content/uploads/2021/02/CET.jpg
END:VEVENT
END:VCALENDAR