BEGIN:VCALENDAR
VERSION:2.0
PRODID:-//Celebrating 200 years of Catholic Education in Australia - ECPv5.2.1//NONSGML v1.0//EN
CALSCALE:GREGORIAN
METHOD:PUBLISH
X-WR-CALNAME:Celebrating 200 years of Catholic Education in Australia
X-ORIGINAL-URL:https://200years.catholic.edu.au
X-WR-CALDESC:Events for Celebrating 200 years of Catholic Education in Australia
BEGIN:VTIMEZONE
TZID:UTC
BEGIN:STANDARD
TZOFFSETFROM:+0000
TZOFFSETTO:+0000
TZNAME:UTC
DTSTART:20210101T000000
END:STANDARD
END:VTIMEZONE
BEGIN:VEVENT
DTSTART;VALUE=DATE:20210221
DTEND;VALUE=DATE:20210228
DTSTAMP:20210227T005159
CREATED:20201215T042127Z
LAST-MODIFIED:20210120T001210Z
UID:1181-1613865600-1614470399@200years.catholic.edu.au
SUMMARY:Catholic Schools Week - Diocese of Bathurst
DESCRIPTION:Catholic Education\, Diocese of Bathurst will hold Catholic Schools Week celebrations from 21 to 27 February 2021. \n Photo: Catholic Education Diocese of Bathurst.
URL:https://200years.catholic.edu.au/event/catholic-schools-week-diocese-of-bathurst/
CATEGORIES:New South Wales
ATTACH;FMTTYPE=image/jpeg:https://200years.catholic.edu.au/wp-content/uploads/2020/12/Catholic-Education-Diocese-of-Bathurst-edit.jpg
END:VEVENT
END:VCALENDAR