BEGIN:VCALENDAR
VERSION:2.0
PRODID:-//Celebrating 200 years of Catholic Education in Australia - ECPv5.2.1//NONSGML v1.0//EN
CALSCALE:GREGORIAN
METHOD:PUBLISH
X-WR-CALNAME:Celebrating 200 years of Catholic Education in Australia
X-ORIGINAL-URL:https://200years.catholic.edu.au
X-WR-CALDESC:Events for Celebrating 200 years of Catholic Education in Australia
BEGIN:VTIMEZONE
TZID:UTC
BEGIN:STANDARD
TZOFFSETFROM:+0000
TZOFFSETTO:+0000
TZNAME:UTC
DTSTART:20210101T000000
END:STANDARD
END:VTIMEZONE
BEGIN:VEVENT
DTSTART;VALUE=DATE:20210321
DTEND;VALUE=DATE:20210327
DTSTAMP:20210227T013859
CREATED:20210119T235445Z
LAST-MODIFIED:20210119T235504Z
UID:1195-1616284800-1616803199@200years.catholic.edu.au
SUMMARY:Celebrating Sydney Catholic Schools
DESCRIPTION:Sydney Catholic Schools is holding their inaugural ‘Celebrating Sydney Catholic Schools’ event from 21 – 26 March 2021. \nPhoto: Students at St Fiacre’s Catholic Primary School Leichhardt\, Sydney Catholic Schools.
URL:https://200years.catholic.edu.au/event/celebrating-sydney-catholic-schools/
CATEGORIES:New South Wales
ATTACH;FMTTYPE=image/jpeg:https://200years.catholic.edu.au/wp-content/uploads/2021/01/Sydney-Catholic-Schools-edit.jpg
END:VEVENT
END:VCALENDAR