BEGIN:VCALENDAR
VERSION:2.0
PRODID:-//Celebrating 200 years of Catholic Education in Australia - ECPv5.2.1//NONSGML v1.0//EN
CALSCALE:GREGORIAN
METHOD:PUBLISH
X-WR-CALNAME:Celebrating 200 years of Catholic Education in Australia
X-ORIGINAL-URL:https://200years.catholic.edu.au
X-WR-CALDESC:Events for Celebrating 200 years of Catholic Education in Australia
BEGIN:VTIMEZONE
TZID:UTC
BEGIN:STANDARD
TZOFFSETFROM:+0000
TZOFFSETTO:+0000
TZNAME:UTC
DTSTART:20210101T000000
END:STANDARD
END:VTIMEZONE
BEGIN:VEVENT
DTSTART;TZID=UTC:20210415T080000
DTEND;TZID=UTC:20210416T170000
DTSTAMP:20210227T013924
CREATED:20210212T010305Z
LAST-MODIFIED:20210212T012229Z
UID:1509-1618473600-1618592400@200years.catholic.edu.au
SUMMARY:Encounter Gathering - Townsville Catholic Education
DESCRIPTION:Catholic Education in the Townsville Diocese will be celebrating the 200 Years of Catholic Education by creating a History Wall that will feature at this year’s Encounter Gathering at the Townsville Entertainment and Conference Centre on April 15th and 16th. The Diocesan Archivist is working with Townsville Catholic Education to research and construct the wall and lead the workshops during the conference. The wall will feature information and photos about each of our schools (existing and historical). Photo: Townsville Catholic Education.
URL:https://200years.catholic.edu.au/event/encounter-gathering-townsville-catholic-education/
CATEGORIES:Queensland
ATTACH;FMTTYPE=image/jpeg:https://200years.catholic.edu.au/wp-content/uploads/2021/02/Tonsville-Cath-Ed.jpg
END:VEVENT
END:VCALENDAR